BEGIN:VCALENDAR
PRODID:-//Microsoft Corporation//Outlook 16.0 MIMEDIR//EN
VERSION:2.0
METHOD:PUBLISH
X-MS-OLK-FORCEINSPECTOROPEN:TRUE
BEGIN:VTIMEZONE
TZID:Romance Standard Time
BEGIN:STANDARD
DTSTART:16011028T030000
RRULE:FREQ=YEARLY;BYDAY=-1SU;BYMONTH=10
TZOFFSETFROM:+0200
TZOFFSETTO:+0100
END:STANDARD
BEGIN:DAYLIGHT
DTSTART:16010325T020000
RRULE:FREQ=YEARLY;BYDAY=-1SU;BYMONTH=3
TZOFFSETFROM:+0100
TZOFFSETTO:+0200
END:DAYLIGHT
END:VTIMEZONE
BEGIN:VEVENT
CLASS:PUBLIC
CREATED:20260223T131902Z
DTEND;TZID="Romance Standard Time":20260618T150000
DTSTAMP:20260223T131902Z
DTSTART;TZID="Romance Standard Time":20260618T110000
LAST-MODIFIED:20260223T131902Z
PRIORITY:5
SEQUENCE:0
SUMMARY;LANGUAGE=fr:Journée clients France Elévateur à Quimper !
TRANSP:OPAQUE
UID:040000008200E00074C5B7101A82E008000000000EAE1058C5A4DC01000000000000000
	01000000067BABC0C2FAC77458DA4D11C365B7645
X-ALT-DESC;FMTTYPE=text/html:
X-MICROSOFT-CDO-BUSYSTATUS:BUSY
X-MICROSOFT-CDO-IMPORTANCE:1
BEGIN:VALARM
TRIGGER:-PT15M
ACTION:DISPLAY
DESCRIPTION:Reminder
END:VALARM
END:VEVENT
END:VCALENDAR
